BEGIN:VCALENDAR
VERSION:2.0
PRODID:-//eventon.com NONSGML v1.0//EN
CALSCALE:GREGORIAN
METHOD:PUBLISH
BEGIN:VEVENT
UID:69e75c048812e
DTSTAMP:20260421T111412Z
DTSTART:20260509T090000Z
DTEND:20260509T130000Z
LOCATION:
SUMMARY:Fixardag!
DESCRIPTION:Lördag den 9 maj kl. 9.00 -13.00 ska vi måla\,  städa\,  lag
 a staket\,  elda och fixa mycket annat både i Ottarp och på Viarp. Det fi
 nns uppgifter för både stora och små! Vi bjuder på saft\,  korv och kaf
 fe.Anmäl dig på via hemsidan\,  mail eller gula lappen. Vi samlas på[..]
 \nhttps://vkrk.se/kalender/fixardag-10/
URL:https://vkrk.se/kalender/fixardag-10/
END:VEVENT
END:VCALENDAR