BEGIN:VCALENDAR
VERSION:2.0
PRODID:-//eventon.com NONSGML v1.0//EN
CALSCALE:GREGORIAN
METHOD:PUBLISH
BEGIN:VEVENT
UID:69e60be344992
DTSTAMP:20260420T112003Z
DTSTART:20260428T180000Z
DTEND:20260428T200000Z
LOCATION:
SUMMARY:Teoridag - Exteriörbedömning och visning av häst!
DESCRIPTION:Vårens nästa teoridag är redan tisdagen den 28/4!&nbsp;Den h
 är gången teamar vi ihop oss med Ung-SWB och bjuder in till Exteriörkurs
  med Harald Jönsson!&nbsp;Är du nyfiken på hästens exteriör och hur de
 n hänger ihop med gångarter\,  kvalitet och ridbarhet?Syftet är att kunn
 a få en inblick i domarens bedömning och vad[..]\nhttps://vkrk.se/kalende
 r/teoridag-exteriorbedomning-och-visning-av-hast/
URL:https://vkrk.se/kalender/teoridag-exteriorbedomning-och-visning-av-hast/
END:VEVENT
END:VCALENDAR