BEGIN:VCALENDAR
VERSION:2.0
PRODID:-//eventon.com NONSGML v1.0//EN
CALSCALE:GREGORIAN
METHOD:PUBLISH
BEGIN:VEVENT
UID:69e62b1ea46ea
DTSTAMP:20260420T133318Z
DTSTART:20260501T080000Z
DTEND:20260501T160000Z
LOCATION:
SUMMARY:Fälttävlanskurs!
DESCRIPTION:Den 1 maj arrangerar vi fälttävlanskurs för dig som rider i 
 GIII/spec. grupp. Det blir en heldag\,  med två ridpass samt ett teoripass
 . På det första passet kommer vi att koncentera oss på grunderna i ett d
 ressyrprogram samt en del banhoppning. Till andra ridpasset kommer vi att b
 ygga en hel[..]\nhttps://vkrk.se/kalender/falttavlanskurs-3/
URL:https://vkrk.se/kalender/falttavlanskurs-3/
END:VEVENT
END:VCALENDAR