BEGIN:VCALENDAR
VERSION:2.0
PRODID:-//eventon.com NONSGML v1.0//EN
CALSCALE:GREGORIAN
METHOD:PUBLISH
BEGIN:VEVENT
UID:69e629dc55d71
DTSTAMP:20260420T132756Z
DTSTART:20260509T000000Z
DTEND:20260510T000000Z
LOCATION:
SUMMARY:Dressyrkurs!
DESCRIPTION:Två lärorika dagar med vår duktiga dressyrtränare Lotta Rin
 gwall. Ni rider i små grupper för intensiv träning. Vi går igenom delar
  av program och tränar på sits\,  samt att kunna rida hästen i en balans
 erad form. Kostnad 950 kr skolhäst / 700 kr privathästBegränsat antal pl
 atser så vänta inte med[..]\nhttps://vkrk.se/kalender/dressyrkurs-2/
URL:https://vkrk.se/kalender/dressyrkurs-2/
END:VEVENT
END:VCALENDAR