BEGIN:VCALENDAR
VERSION:2.0
PRODID:-//eventon.com NONSGML v1.0//EN
CALSCALE:GREGORIAN
METHOD:PUBLISH
BEGIN:VEVENT
UID:69e9fe3827b95
DTSTAMP:20260423T111048Z
DTSTART:20260517T150700Z
DTEND:20260517T150700Z
LOCATION:
SUMMARY:Klubbmästerskap Hoppning 17 maj
DESCRIPTION:Proposition Startlista (live) Startlista (pdf) Funktionärslist
 a\nhttps://vkrk.se/kalender/klubbmasterskap-hoppning-2/
URL:https://vkrk.se/kalender/klubbmasterskap-hoppning-2/
END:VEVENT
END:VCALENDAR