BEGIN:VCALENDAR
VERSION:2.0
PRODID:-//eventon.com NONSGML v1.0//EN
CALSCALE:GREGORIAN
METHOD:PUBLISH
BEGIN:VEVENT
UID:69e9fd3359b70
DTSTAMP:20260423T110627Z
DTSTART:20260514T151700Z
DTEND:20260514T151700Z
LOCATION:
SUMMARY:Klubbmästerskap Dressyr 14 maj
DESCRIPTION:Proposition Startlista (live) Startlista (pdf) Funktionärslist
 a\nhttps://vkrk.se/kalender/klubbmasterskap-dressyr-14-maj/
URL:https://vkrk.se/kalender/klubbmasterskap-dressyr-14-maj/
END:VEVENT
END:VCALENDAR