BEGIN:VCALENDAR
VERSION:2.0
PRODID:-//eventon.com NONSGML v1.0//EN
CALSCALE:GREGORIAN
METHOD:PUBLISH
BEGIN:VEVENT
UID:69ecb6a58c7b4
DTSTAMP:20260425T124213Z
DTSTART:20260425T194300Z
DTEND:20260425T194300Z
LOCATION:
SUMMARY:Hästskötarträffen på lördag\,  25 april\,  är inställd!
DESCRIPTION:Hästskötarträffen på lördag\,  25 april\,  är inställd!\
 nhttps://vkrk.se/kalender/hastskotartraffen-pa-lordag-25-april-ar-installd/
URL:https://vkrk.se/kalender/hastskotartraffen-pa-lordag-25-april-ar-installd/
END:VEVENT
END:VCALENDAR