BEGIN:VCALENDAR
VERSION:2.0
PRODID:-//eventon.com NONSGML v1.0//EN
CALSCALE:GREGORIAN
METHOD:PUBLISH
BEGIN:VEVENT
UID:69e5f7011c55c
DTSTAMP:20260420T095057Z
DTSTART:20260315T075900Z
DTEND:20260315T135900Z
LOCATION:
SUMMARY:Vårdressyr ponny 15 mars tyvärr inställd!
DESCRIPTION:Se tävlingen i TDB här..\nhttps://vkrk.se/kalender/div-4-grup
 p-2-omgang-3/
URL:https://vkrk.se/kalender/div-4-grupp-2-omgang-3/
END:VEVENT
END:VCALENDAR